BEGIN:VCALENDAR
VERSION:2.0
PRODID:-//TimmInvest - ECPv6.5.1.6//NONSGML v1.0//EN
CALSCALE:GREGORIAN
METHOD:PUBLISH
X-WR-CALNAME:TimmInvest
X-ORIGINAL-URL:https://timminvest.com
X-WR-CALDESC:Veranstaltungen für TimmInvest
REFRESH-INTERVAL;VALUE=DURATION:PT1H
X-Robots-Tag:noindex
X-PUBLISHED-TTL:PT1H
BEGIN:VTIMEZONE
TZID:Europe/Berlin
BEGIN:DAYLIGHT
TZOFFSETFROM:+0100
TZOFFSETTO:+0200
TZNAME:CEST
DTSTART:20250330T010000
END:DAYLIGHT
BEGIN:STANDARD
TZOFFSETFROM:+0200
TZOFFSETTO:+0100
TZNAME:CET
DTSTART:20251026T010000
END:STANDARD
END:VTIMEZONE
BEGIN:VEVENT
DTSTART;TZID=Europe/Berlin:20250510T110000
DTEND;TZID=Europe/Berlin:20250510T120000
DTSTAMP:20260421T104725
CREATED:20250307T105639Z
LAST-MODIFIED:20250307T105840Z
UID:1974-1746874800-1746878400@timminvest.com
SUMMARY:Vortrag auf der Invest in Stuttgart
DESCRIPTION:Commerzbank Chefvolkswirt  und Fondsmanager im Dialog: Wie geht es an den Märkten weiter? Prognosen vs. Marktrealität!\n\nBeitragsbeschreibung\nCommerzbank Chefvolkswirt Dr. Jörg Krämer und TimmInvest CEO und Fondsmanager Thomas Timmermann (Europäische Aktien mit Absicherungsstrategie) debattieren in einem lebhaften Vortrag darüber\, wie es weiter geht an den Märkten. Dabei geht es richtig zur Sache! Denn selten lagen die Analysten so daneben wie in diesem Börsenjahr! Der rote Faden des Vortrags ist der aus Sicht des Fondsmanagers fundamental und technisch abgeleiteter Marktausblick und die daraus folgende Anlagestrategie. Der Vortrag knüpft an eine lange Tradition ähnlicher Vorträge an\, die früher auf der Invest Commerzbank Bühne gehalten wurden.\nAm 10.05.2025\, von 11:00 – 12:00 Uhr im Vortragsraum C 6.1. im ICS auf dem Messegelände
URL:https://timminvest.com/event/vortrag-auf-der-invest-in-stuttgart/
LOCATION:Messe Stuttgart (Landesmesse)\, Messepiazza 1\, Stuttgart\, 70629\, Deutschland
END:VEVENT
END:VCALENDAR