BEGIN:VCALENDAR
VERSION:2.0
PRODID:-//TimmInvest - ECPv6.5.1.6//NONSGML v1.0//EN
CALSCALE:GREGORIAN
METHOD:PUBLISH
X-WR-CALNAME:TimmInvest
X-ORIGINAL-URL:https://timminvest.com
X-WR-CALDESC:Veranstaltungen für TimmInvest
REFRESH-INTERVAL;VALUE=DURATION:PT1H
X-Robots-Tag:noindex
X-PUBLISHED-TTL:PT1H
BEGIN:VTIMEZONE
TZID:Europe/Berlin
BEGIN:DAYLIGHT
TZOFFSETFROM:+0100
TZOFFSETTO:+0200
TZNAME:CEST
DTSTART:20250330T010000
END:DAYLIGHT
BEGIN:STANDARD
TZOFFSETFROM:+0200
TZOFFSETTO:+0100
TZNAME:CET
DTSTART:20251026T010000
END:STANDARD
END:VTIMEZONE
BEGIN:VEVENT
DTSTART;VALUE=DATE:20251202
DTEND;VALUE=DATE:20251203
DTSTAMP:20260421T105059
CREATED:20230110T085558Z
LAST-MODIFIED:20260120T211833Z
UID:1600-1764633600-1764719999@timminvest.com
SUMMARY:Vortag am Börsentag kompakt Köln
DESCRIPTION:Weitere Infos folgen.
URL:https://timminvest.com/event/anlegertag-duesseldorf-copy/
LOCATION:Pullmann Cologne Hotel\, Helenenstraße 14\, Köln\, 50667\, Deutschland
CATEGORIES:Anlegertag
ATTACH;FMTTYPE=image/png:https://timminvest.com/wpTimm/wp-content/uploads/2023/01/Graphic-TimmInvest_864-x-487_BTk-Koeln.png
END:VEVENT
END:VCALENDAR