BEGIN:VCALENDAR
VERSION:2.0
PRODID:-//TimmInvest - ECPv6.5.1.6//NONSGML v1.0//EN
CALSCALE:GREGORIAN
METHOD:PUBLISH
X-WR-CALNAME:TimmInvest
X-ORIGINAL-URL:https://timminvest.com
X-WR-CALDESC:Veranstaltungen für TimmInvest
REFRESH-INTERVAL;VALUE=DURATION:PT1H
X-Robots-Tag:noindex
X-PUBLISHED-TTL:PT1H
BEGIN:VTIMEZONE
TZID:Europe/Berlin
BEGIN:DAYLIGHT
TZOFFSETFROM:+0100
TZOFFSETTO:+0200
TZNAME:CEST
DTSTART:20260329T010000
END:DAYLIGHT
BEGIN:STANDARD
TZOFFSETFROM:+0200
TZOFFSETTO:+0100
TZNAME:CET
DTSTART:20261025T010000
END:STANDARD
END:VTIMEZONE
BEGIN:VEVENT
DTSTART;TZID=Europe/Berlin:20260328T093000
DTEND;TZID=Europe/Berlin:20260328T170000
DTSTAMP:20260423T195439
CREATED:20230217T080140Z
LAST-MODIFIED:20260226T155442Z
UID:1628-1774690200-1774717200@timminvest.com
SUMMARY:Vortrag am Anlegertag München
DESCRIPTION:Heimatmarkt Europa: Chancen im fragmentierten globalen Umfeld\nRisiken managen. Chancen nutzen – ungefiltert aus dem Markt.\nVortrag von Thomas Timmermann um 10:00 Uhr im Vortragsraum 5 Highline
URL:https://timminvest.com/event/vortrag-boersentag-muenchen/
LOCATION:Motorworld München\, Am Ausbesserungswerk 8\, München\, 80939
ATTACH;FMTTYPE=image/jpeg:https://timminvest.com/wpTimm/wp-content/uploads/2023/02/AT_MUC_header.jpeg
END:VEVENT
END:VCALENDAR